BEGIN:VCALENDAR
VERSION:2.0
PRODID:-//wp-events-plugin.com//6.3//EN
TZID:Europe/Paris
X-WR-TIMEZONE:Europe/Paris
BEGIN:VEVENT
UID:8659@ville-granville.fr
DTSTART;TZID=Europe/Paris;VALUE=DATE:20260501
DTEND;TZID=Europe/Paris;VALUE=DATE:20260504
DTSTAMP:20260309T085737Z
URL:https://www.ville-granville.fr/events/104550/
SUMMARY:Festival Granville d'art
DESCRIPTION:
ATTACH;FMTTYPE=image/jpeg:https://www.ville-granville.fr/wp-content/upload
 s/2026/03/Slide-GdA.jpg
CATEGORIES:Culture
END:VEVENT
BEGIN:VTIMEZONE
TZID:Europe/Paris
X-LIC-LOCATION:Europe/Paris
BEGIN:DAYLIGHT
DTSTART:20260329T030000
TZOFFSETFROM:+0100
TZOFFSETTO:+0200
TZNAME:CEST
END:DAYLIGHT
END:VTIMEZONE
END:VCALENDAR