BEGIN:VCALENDAR
VERSION:2.0
PRODID:-//wp-events-plugin.com//6.3//EN
TZID:Europe/Paris
X-WR-TIMEZONE:Europe/Paris
BEGIN:VEVENT
UID:8724@ville-granville.fr
DTSTART;TZID=Europe/Paris:20260507T170000
DTEND;TZID=Europe/Paris:20260507T190000
DTSTAMP:20260413T084950Z
URL:https://www.ville-granville.fr/events/conference-granville-et-son-hist
 oire/
SUMMARY:Conférence "Granville et son histoire"
DESCRIPTION:
ATTACH;FMTTYPE=image/jpeg:https://www.ville-granville.fr/wp-content/upload
 s/2026/04/50-ans-uia.jpg
CATEGORIES:Culture
LOCATION:Salle de Hérel\, boulevard des Amiraux\, GRANVILLE\, Normandie\, 
 50400\, France
GEO:48.8355457;-1.595814300000029
X-APPLE-STRUCTURED-LOCATION;VALUE=URI;X-ADDRESS=boulevard des Amiraux\, GRA
 NVILLE\, Normandie\, 50400\, France;X-APPLE-RADIUS=100;X-TITLE=Salle de H
 érel:geo:48.8355457,-1.595814300000029
END:VEVENT
BEGIN:VTIMEZONE
TZID:Europe/Paris
X-LIC-LOCATION:Europe/Paris
BEGIN:DAYLIGHT
DTSTART:20260329T030000
TZOFFSETFROM:+0100
TZOFFSETTO:+0200
TZNAME:CEST
END:DAYLIGHT
END:VTIMEZONE
END:VCALENDAR