BEGIN:VCALENDAR
VERSION:2.0
PRODID:-//wp-events-plugin.com//6.3//EN
TZID:Europe/Paris
X-WR-TIMEZONE:Europe/Paris
BEGIN:VEVENT
UID:8729@ville-granville.fr
DTSTART;TZID=Europe/Paris:20260425T190000
DTEND;TZID=Europe/Paris:20260425T213000
DTSTAMP:20260421T094138Z
URL:https://www.ville-granville.fr/events/les-rendez-vous-sportifs-du-week
 -end-24/
SUMMARY:Les rendez-vous sportifs du week-end
DESCRIPTION:
ATTACH;FMTTYPE=image/jpeg:https://www.ville-granville.fr/wp-content/upload
 s/2026/04/SLIDE-Water-polo.png
CATEGORIES:Sport
LOCATION:Cité des sports\, boulevard des amériques\, GRANVILLE\, France
GEO:48.837579;-1.5973020000000133
X-APPLE-STRUCTURED-LOCATION;VALUE=URI;X-ADDRESS=boulevard des amériques\, 
 GRANVILLE\, France;X-APPLE-RADIUS=100;X-TITLE=Cité des sports:geo:48.8375
 79,-1.5973020000000133
END:VEVENT
BEGIN:VTIMEZONE
TZID:Europe/Paris
X-LIC-LOCATION:Europe/Paris
BEGIN:DAYLIGHT
DTSTART:20260329T030000
TZOFFSETFROM:+0100
TZOFFSETTO:+0200
TZNAME:CEST
END:DAYLIGHT
END:VTIMEZONE
END:VCALENDAR