BEGIN:VCALENDAR
VERSION:2.0
PRODID:-//wp-events-plugin.com//6.3//EN
TZID:Europe/Paris
X-WR-TIMEZONE:Europe/Paris
BEGIN:VEVENT
UID:8730@ville-granville.fr
DTSTART;TZID=Europe/Paris;VALUE=DATE:20260429
DTEND;TZID=Europe/Paris;VALUE=DATE:20260705
DTSTAMP:20260422T134549Z
URL:https://www.ville-granville.fr/events/programme-des-activites-de-lespa
 ce-jeunes-de-avril-a-juillet-2026/
SUMMARY:Programme des activités de l’Espace Jeunes d'avril à juillet 20
 26
DESCRIPTION:
ATTACH;FMTTYPE=image/jpeg:https://www.ville-granville.fr/wp-content/upload
 s/2026/04/Banniere-web-Mai-Juin-Espace-Jeunes.jpg
CATEGORIES:Jeunesse
LOCATION:Espace Jeunes Christian Ridel\, 465 boulevard des Amériques\, GRA
 NVILLE\, France
GEO:48.8317942;-1.5756843000000345
X-APPLE-STRUCTURED-LOCATION;VALUE=URI;X-ADDRESS=465 boulevard des Amérique
 s\, GRANVILLE\, France;X-APPLE-RADIUS=100;X-TITLE=Espace Jeunes Christian 
 Ridel:geo:48.8317942,-1.5756843000000345
END:VEVENT
BEGIN:VTIMEZONE
TZID:Europe/Paris
X-LIC-LOCATION:Europe/Paris
BEGIN:DAYLIGHT
DTSTART:20260329T030000
TZOFFSETFROM:+0100
TZOFFSETTO:+0200
TZNAME:CEST
END:DAYLIGHT
END:VTIMEZONE
END:VCALENDAR