BEGIN:VCALENDAR
VERSION:2.0
PRODID:-//wp-events-plugin.com//6.3//EN
TZID:Europe/Paris
X-WR-TIMEZONE:Europe/Paris
BEGIN:VEVENT
UID:8666@ville-granville.fr
DTSTART;TZID=Europe/Paris:20260430T190000
DTEND;TZID=Europe/Paris:20260430T220000
DTSTAMP:20260309T100709Z
URL:https://www.ville-granville.fr/events/soiree-de-presentation-de-la-24e
 -edition-du-festival-sorties-de-bain/
SUMMARY:Soirée de présentation de la 24e édition du festival Sorties de 
 Bain
DESCRIPTION:
ATTACH;FMTTYPE=image/jpeg:https://www.ville-granville.fr/wp-content/upload
 s/2026/03/SLIDE-Soiree-presentation-24e-edition-Sorties-de-bain.png
CATEGORIES:Culture
LOCATION:Salle de spectacles et de congrès L'Archipel\, place Maréchal Fo
 ch\, GRANVILLE\, Normandie\, 50400\, Normandie\, France
GEO:48.8388517;-1.5987126999999646
X-APPLE-STRUCTURED-LOCATION;VALUE=URI;X-ADDRESS=place Maréchal Foch\, GRAN
 VILLE\, Normandie\, 50400\, Normandie\, France;X-APPLE-RADIUS=100;X-TITLE=
 Salle de spectacles et de congrès L'Archipel:geo:48.8388517,-1.5987126999
 999646
END:VEVENT
BEGIN:VTIMEZONE
TZID:Europe/Paris
X-LIC-LOCATION:Europe/Paris
BEGIN:DAYLIGHT
DTSTART:20260329T030000
TZOFFSETFROM:+0100
TZOFFSETTO:+0200
TZNAME:CEST
END:DAYLIGHT
END:VTIMEZONE
END:VCALENDAR